BEGIN:VCALENDAR
VERSION:2.0
PRODID:-//Australian Diabetes Society - ECPv6.15.20//NONSGML v1.0//EN
CALSCALE:GREGORIAN
METHOD:PUBLISH
X-ORIGINAL-URL:https://www.diabetessociety.com.au
X-WR-CALDESC:Events for Australian Diabetes Society
REFRESH-INTERVAL;VALUE=DURATION:PT1H
X-Robots-Tag:noindex
X-PUBLISHED-TTL:PT1H
BEGIN:VTIMEZONE
TZID:Australia/Brisbane
BEGIN:STANDARD
TZOFFSETFROM:+1000
TZOFFSETTO:+1000
TZNAME:AEST
DTSTART:20240101T000000
END:STANDARD
END:VTIMEZONE
BEGIN:VEVENT
DTSTART;TZID=Australia/Brisbane:20250819T120000
DTEND;TZID=Australia/Brisbane:20250819T180000
DTSTAMP:20260422T232113
CREATED:20250131T051047Z
LAST-MODIFIED:20250814T032654Z
UID:10000080-1755604800-1755626400@www.diabetessociety.com.au
SUMMARY:ADS Early Career Network Workshop 2025
DESCRIPTION:We invite all early career ADS members to be part of the ADS Early Career Network (ECN)\, an ADS initiative to support clinicians and scientists with an interest in diabetes. The ADS ECN Subcommittee has developed a structure focused on four key pillars: research\, education\, professional development and social networking. By working collaboratively with senior ADS members\, we hope to build a community of peer-to-peer support and to help our early career members increase their visibility and maximise their skills and impact. \nThe ADS ECN Subcommittee is excited to offer an exclusive half-day workshop to a limited number of ADS early career members attending #25ADC on Tuesday\, 19th August 2025. This workshop\, which is designed and led by early career members with the support of senior facilitators\, will focus on our four key pillars and offers a unique opportunity to network and shape the future of the ECN. The workshop will be held at the Sofitel Gold Coast Broadbeach and you are required to attend the Australasian Diabetes Congress to register for the ADS ECN Workshop. Registration fee is $88 (includes $8 GST). For any further information\, please contact the ADS Secretariat via email: admin@diabetessociety.com.au \nClick here to view the event flyer.\nClick here to view the program.\nClick here to register! \nThe ADS gratefully acknowledges the support from Sanofi for the workshops and the support from AstraZeneca for the networking drinks.\n     \n\n  \nExclusive Deal for ADS ECN Workshop 2025 Delegates \nRegister for the ADS ECN Workshop 2025 and receive special pricing for Australasian Diabetes Advancements and Technologies Summit (ADATS) 2025 half-day registration! The ADATS program includes some amazing national and international leaders in diabetes technology. Take advantage of this opportunity to gain valuable insights and expand your professional network in the field of diabetes. ADS ECN Workshop 2025 delegates can register for ADATS’ half-day session for just $55 by clicking here. If you have any questions or require further assistance regarding ADATS 2025\, please send an email to: admin@nadc.net.au
URL:https://www.diabetessociety.com.au/event/ads-ecn-workshop-2025/
LOCATION:Sofitel Gold Coast Broadbeach\, 81 Surf Parade\, Broadbeach\, QLD\, 4218\, Australia
CATEGORIES:ADS Educational Events,General,National Meetings
ATTACH;FMTTYPE=image/png:https://www.diabetessociety.com.au/wp-content/uploads/2024/03/ADS-ECN-Logo.png
ORGANIZER;CN="Australian Diabetes Society":MAILTO:admin@diabetessociety.com.au
END:VEVENT
END:VCALENDAR