BEGIN:VCALENDAR
VERSION:2.0
PRODID:-//Australian Diabetes Society - ECPv6.15.20//NONSGML v1.0//EN
CALSCALE:GREGORIAN
METHOD:PUBLISH
X-ORIGINAL-URL:https://www.diabetessociety.com.au
X-WR-CALDESC:Events for Australian Diabetes Society
REFRESH-INTERVAL;VALUE=DURATION:PT1H
X-Robots-Tag:noindex
X-PUBLISHED-TTL:PT1H
BEGIN:VTIMEZONE
TZID:Australia/Adelaide
BEGIN:STANDARD
TZOFFSETFROM:+1030
TZOFFSETTO:+0930
TZNAME:ACST
DTSTART:20220402T163000
END:STANDARD
BEGIN:DAYLIGHT
TZOFFSETFROM:+0930
TZOFFSETTO:+1030
TZNAME:ACDT
DTSTART:20221001T163000
END:DAYLIGHT
BEGIN:STANDARD
TZOFFSETFROM:+1030
TZOFFSETTO:+0930
TZNAME:ACST
DTSTART:20230401T163000
END:STANDARD
BEGIN:DAYLIGHT
TZOFFSETFROM:+0930
TZOFFSETTO:+1030
TZNAME:ACDT
DTSTART:20230930T163000
END:DAYLIGHT
BEGIN:STANDARD
TZOFFSETFROM:+1030
TZOFFSETTO:+0930
TZNAME:ACST
DTSTART:20240406T163000
END:STANDARD
BEGIN:DAYLIGHT
TZOFFSETFROM:+0930
TZOFFSETTO:+1030
TZNAME:ACDT
DTSTART:20241005T163000
END:DAYLIGHT
END:VTIMEZONE
BEGIN:VTIMEZONE
TZID:Australia/Melbourne
BEGIN:STANDARD
TZOFFSETFROM:+1100
TZOFFSETTO:+1000
TZNAME:AEST
DTSTART:20220402T160000
END:STANDARD
BEGIN:DAYLIGHT
TZOFFSETFROM:+1000
TZOFFSETTO:+1100
TZNAME:AEDT
DTSTART:20221001T160000
END:DAYLIGHT
BEGIN:STANDARD
TZOFFSETFROM:+1100
TZOFFSETTO:+1000
TZNAME:AEST
DTSTART:20230401T160000
END:STANDARD
BEGIN:DAYLIGHT
TZOFFSETFROM:+1000
TZOFFSETTO:+1100
TZNAME:AEDT
DTSTART:20230930T160000
END:DAYLIGHT
BEGIN:STANDARD
TZOFFSETFROM:+1100
TZOFFSETTO:+1000
TZNAME:AEST
DTSTART:20240406T160000
END:STANDARD
BEGIN:DAYLIGHT
TZOFFSETFROM:+1000
TZOFFSETTO:+1100
TZNAME:AEDT
DTSTART:20241005T160000
END:DAYLIGHT
END:VTIMEZONE
BEGIN:VEVENT
DTSTART;TZID=Australia/Adelaide:20230822T130000
DTEND;TZID=Australia/Adelaide:20230822T190000
DTSTAMP:20260421T215454
CREATED:20230324T070234Z
LAST-MODIFIED:20230731T020154Z
UID:10000028-1692709200-1692730800@www.diabetessociety.com.au
SUMMARY:ADS Early Career Network Workshop 2023
DESCRIPTION:We invite all early career ADS members to be part of the ADS Early Career Network (ECN)\, an ADS initiative to support clinicians and scientists with an interest in diabetes. The ECN Committee has developed a structure focused on four key pillars; research\, education\, professional development and social networking. By working collaboratively with senior ADS members\, we hope to build a community of peer-to-peer support and to help our early career members increase their visibility and maximise their skills and impact. The ECN Committee is excited to offer an exclusive half-day workshop to a limited number of ADS early career members attending #23ADC on Tuesday 22nd August\, 2023. This workshop\, which is designed and led by early career members with the support of senior facilitators will focus on our four key pillars and offer a unique opportunity to network and shape the future of the ECN. The Workshop will be held at the Adelaide Oval (Premiership Suite on Level 3) and you are required to attend the Australasian Diabetes Congress to register for the ADS ECN Workshop. Registration fee is $55 (includes $5 GST). For any further information please contact the ADS Secretariat via email to admin@diabetessociety.com.au \nClick to view the event flyer.\nClick to view the program.
URL:https://www.diabetessociety.com.au/event/ads-early-career-network-workshop-2023/
LOCATION:Adelaide Oval\, Adelaide\, SA\, Australia
CATEGORIES:ADS Educational Events,General,National Meetings
ATTACH;FMTTYPE=image/png:https://www.diabetessociety.com.au/wp-content/uploads/2023/04/ADS-ECN-50-logo-2-e1680509402988.png
ORGANIZER;CN="Australian Diabetes Society":MAILTO:admin@diabetessociety.com.au
END:VEVENT
BEGIN:VEVENT
DTSTART;TZID=Australia/Melbourne:20230822T000000
DTEND;TZID=Australia/Melbourne:20230822T235959
DTSTAMP:20260421T215454
CREATED:20230213T040320Z
LAST-MODIFIED:20230317T192355Z
UID:10000011-1692662400-1692748799@www.diabetessociety.com.au
SUMMARY:Australasian Diabetes Advancements and Technologies Summit (ADATS)
DESCRIPTION:The Australian Diabetes Advancements and Technologies Summit (ADATS) 2023 meeting returns again as an in-person event but on a new date. This year we are going to slip a day in just before the Australian Diabetes Congress begins on August 23rd so you can save on flights and accommodation! You have to love that! \nJoin us for an exciting day filled with leading experts and international speakers as we explore all that we can expect to see in the future of diabetes technologies and new therapeutics in Australia and across the world. \nWhether you are new to diabetes or an old hand\, this meeting has something for everyone involved in caring for people living with diabetes.
URL:https://www.diabetessociety.com.au/event/australasian-diabetes-advancements-and-technologies-summit-adats/
LOCATION:Adelaide Oval\, Adelaide\, SA\, Australia
CATEGORIES:ADS Educational Events,General,National Meetings
ATTACH;FMTTYPE=image/png:https://www.diabetessociety.com.au/wp-content/uploads/2023/02/ADATS-BPDC-2022-MyINteract-Tile.png
END:VEVENT
END:VCALENDAR