BEGIN:VCALENDAR
VERSION:2.0
PRODID:-//Australian Diabetes Society - ECPv6.15.20//NONSGML v1.0//EN
CALSCALE:GREGORIAN
METHOD:PUBLISH
X-ORIGINAL-URL:https://www.diabetessociety.com.au
X-WR-CALDESC:Events for Australian Diabetes Society
REFRESH-INTERVAL;VALUE=DURATION:PT1H
X-Robots-Tag:noindex
X-PUBLISHED-TTL:PT1H
BEGIN:VTIMEZONE
TZID:Australia/Melbourne
BEGIN:STANDARD
TZOFFSETFROM:+1100
TZOFFSETTO:+1000
TZNAME:AEST
DTSTART:20250405T160000
END:STANDARD
BEGIN:DAYLIGHT
TZOFFSETFROM:+1000
TZOFFSETTO:+1100
TZNAME:AEDT
DTSTART:20251004T160000
END:DAYLIGHT
BEGIN:STANDARD
TZOFFSETFROM:+1100
TZOFFSETTO:+1000
TZNAME:AEST
DTSTART:20260404T160000
END:STANDARD
BEGIN:DAYLIGHT
TZOFFSETFROM:+1000
TZOFFSETTO:+1100
TZNAME:AEDT
DTSTART:20261003T160000
END:DAYLIGHT
BEGIN:STANDARD
TZOFFSETFROM:+1100
TZOFFSETTO:+1000
TZNAME:AEST
DTSTART:20270403T160000
END:STANDARD
BEGIN:DAYLIGHT
TZOFFSETFROM:+1000
TZOFFSETTO:+1100
TZNAME:AEDT
DTSTART:20271002T160000
END:DAYLIGHT
END:VTIMEZONE
BEGIN:VEVENT
DTSTART;TZID=Australia/Melbourne:20260818T000000
DTEND;TZID=Australia/Melbourne:20260821T235959
DTSTAMP:20260420T182456
CREATED:20250918T061003Z
LAST-MODIFIED:20260408T011845Z
UID:10000094-1787011200-1787356799@www.diabetessociety.com.au
SUMMARY:International Diabetes Federation Western Pacific Region Congress\, Australasian Diabetes Congress & Metabolic Diseases 2026
DESCRIPTION:The Australian Diabetes Society (ADS)\, the Australian Diabetes Educators Association (ADEA) and Diabetes Australia (DA) are co-hosting the biennial International Diabetes Federation Western Pacific Region (IDF-WPR) Congress as a joint congress with the Australasian Diabetes Congress (ADC) 2026 and Metabolic Diseases 2026 from Tuesday 18th to Friday 21st August 2026 at the Melbourne Convention and Exhibition Centre in Melbourne\, VIC. This joint congress will bring together approximately 250 speakers from around the world and Australasia\, featuring a dynamic program that covers the latest breakthroughs in diabetes research\, clinical care\, education and community priorities. \nPlease visit the official IDF-WPR Congress\, ADC & Metabolic Diseases 2026 website for further details.
URL:https://www.diabetessociety.com.au/event/idfwpr-adc-md-2026/
LOCATION:Melbourne Convention and Exhibition Centre\, 1 Convention Centre Pl\, South Wharf\, VIC\, 3006\, Australia
CATEGORIES:ADS Educational Events,National Meetings
ATTACH;FMTTYPE=image/png:https://www.diabetessociety.com.au/wp-content/uploads/2025/09/IDFWPR-ADC-MD-2026_Feature-Image_4.png
ORGANIZER;CN="The Conference Company":MAILTO:adc@theconferencecompany.com
END:VEVENT
END:VCALENDAR