BEGIN:VCALENDAR
VERSION:2.0
PRODID:-//Australian Diabetes Society - ECPv6.15.20//NONSGML v1.0//EN
CALSCALE:GREGORIAN
METHOD:PUBLISH
X-WR-CALNAME:Australian Diabetes Society
X-ORIGINAL-URL:https://www.diabetessociety.com.au
X-WR-CALDESC:Events for Australian Diabetes Society
REFRESH-INTERVAL;VALUE=DURATION:PT1H
X-Robots-Tag:noindex
X-PUBLISHED-TTL:PT1H
BEGIN:VTIMEZONE
TZID:Australia/Melbourne
BEGIN:STANDARD
TZOFFSETFROM:+1100
TZOFFSETTO:+1000
TZNAME:AEST
DTSTART:20160402T160000
END:STANDARD
BEGIN:DAYLIGHT
TZOFFSETFROM:+1000
TZOFFSETTO:+1100
TZNAME:AEDT
DTSTART:20161001T160000
END:DAYLIGHT
BEGIN:STANDARD
TZOFFSETFROM:+1100
TZOFFSETTO:+1000
TZNAME:AEST
DTSTART:20170401T160000
END:STANDARD
BEGIN:DAYLIGHT
TZOFFSETFROM:+1000
TZOFFSETTO:+1100
TZNAME:AEDT
DTSTART:20170930T160000
END:DAYLIGHT
BEGIN:STANDARD
TZOFFSETFROM:+1100
TZOFFSETTO:+1000
TZNAME:AEST
DTSTART:20180331T160000
END:STANDARD
BEGIN:DAYLIGHT
TZOFFSETFROM:+1000
TZOFFSETTO:+1100
TZNAME:AEDT
DTSTART:20181006T160000
END:DAYLIGHT
END:VTIMEZONE
BEGIN:VEVENT
DTSTART;TZID=Australia/Melbourne:20170828T183000
DTEND;TZID=Australia/Melbourne:20170828T213000
DTSTAMP:20260422T061826
CREATED:20230213T024620Z
LAST-MODIFIED:20230213T024620Z
UID:10000005-1503945000-1503955800@www.diabetessociety.com.au
SUMMARY:Case Study Workshop for General Practitioners
DESCRIPTION:This workshop is designed to apply the updated Type 2 Diabetes Treatment Algorithm in primary care by using appropriate case studies. This will include insulin initiation and titration as well as combination use of newer therapies for better outcomes. This education forms an accredited activity under the RACGP QI&CPD program. The Australian Diabetes Society (ADS) gratefully acknowledge the financial support provided by the National Diabetes Services Scheme (NDSS) for this educational activity. The National Diabetes Services Scheme (NDSS) is an initiative of the Australian Government administered with the assistance of Diabetes Australia. \nDate: Monday 28 August 2017 \nTime: 6:30pm to 9:30pm \nVenue Details: \nThe University Club of Western Australia\nRoom: Seminar 1\nAddress: 35 Stirling Highway\, CRAWLEY\, WA\, 6009\nPhone: 08 6488 4820\nWebsite: www.universityclub.uwa.edu.au\nCar Parking: Car parking is free of charge after 5.00pm on weekdays in all university car parks. \nAccreditation: \nIt is anticipated that the ADS GP Case Study Workshop will carry out Category 2 QI&CPD points accreditation with the RACGP. \nRegistration: \nRegistration is free to attend (dinner included) and is only open to General Practitioners. Registration for the workshop closes on Monday 14 August 2017 but early registration is encouraged as limited places are available. \nClick here to register online for the 2017 ADS GP Case Study Workshop \nEvent Contact: \nPlease contact Linda Valenzisi at the ADS Secretariat via email at: linda@diabetessociety.com.au if you have any enquiries regarding the workshop. \nWorkshop Flyer: \nPlease download the ADS GP Case Study Workshop Flyer – PDF
URL:https://www.diabetessociety.com.au/event/case-study-workshop-for-general-practitioners/
LOCATION:VIC
CATEGORIES:ADS Educational Events
ATTACH;FMTTYPE=image/jpeg:https://www.diabetessociety.com.au/wp-content/uploads/2023/03/bannerads.jpg
END:VEVENT
END:VCALENDAR